BEGIN:VCALENDAR
VERSION:2.0
PRODID:-//Chino Basin Water Conservation District - ECPv6.15.20//NONSGML v1.0//EN
CALSCALE:GREGORIAN
METHOD:PUBLISH
X-ORIGINAL-URL:https://cbwcd.org
X-WR-CALDESC:Events for Chino Basin Water Conservation District
REFRESH-INTERVAL;VALUE=DURATION:PT1H
X-Robots-Tag:noindex
X-PUBLISHED-TTL:PT1H
BEGIN:VTIMEZONE
TZID:America/Los_Angeles
BEGIN:DAYLIGHT
TZOFFSETFROM:-0800
TZOFFSETTO:-0700
TZNAME:PDT
DTSTART:20240310T100000
END:DAYLIGHT
BEGIN:STANDARD
TZOFFSETFROM:-0700
TZOFFSETTO:-0800
TZNAME:PST
DTSTART:20241103T090000
END:STANDARD
BEGIN:DAYLIGHT
TZOFFSETFROM:-0800
TZOFFSETTO:-0700
TZNAME:PDT
DTSTART:20250309T100000
END:DAYLIGHT
BEGIN:STANDARD
TZOFFSETFROM:-0700
TZOFFSETTO:-0800
TZNAME:PST
DTSTART:20251102T090000
END:STANDARD
BEGIN:DAYLIGHT
TZOFFSETFROM:-0800
TZOFFSETTO:-0700
TZNAME:PDT
DTSTART:20260308T100000
END:DAYLIGHT
BEGIN:STANDARD
TZOFFSETFROM:-0700
TZOFFSETTO:-0800
TZNAME:PST
DTSTART:20261101T090000
END:STANDARD
END:VTIMEZONE
BEGIN:VEVENT
DTSTART;TZID=America/Los_Angeles:20251011T080000
DTEND;TZID=America/Los_Angeles:20251011T110000
DTSTAMP:20260423T044628
CREATED:20250910T153254Z
LAST-MODIFIED:20250910T153254Z
UID:10000246-1760169600-1760180400@cbwcd.org
SUMMARY:San Antonio Creek Clean up
DESCRIPTION:Join us to help clean up the Lower San Antonio Creek and protect our watershed!\n\n\nWe need you! Volunteers are needed to clean and protect our local watershed and water source in the San Ana River Watershed.   \nScout troops are welcome! Please register one leader and note how many are in your party.
URL:https://cbwcd.org/event/san-antonio-creek-clean-up/
LOCATION:Angeles Forest Station 25\, Lower San Antonio\, 3000 North Mountain Avenue\, Upland\, CA\, 91784\, United States
CATEGORIES:Free workshops
ATTACH;FMTTYPE=image/jpeg:https://cbwcd.org/wp-content/uploads/2025/09/7335f5fbf948e690ffbdcc5a750827b3-9usEvE.tmp_.jpg
END:VEVENT
END:VCALENDAR